{
 "currentVersion": 10.91,
 "serviceDescription": "Agua_img",
 "name": "Agua_img",
 "description": "",
 "extent": {
  "xmin": -57.65479840707915,
  "ymin": -33.75723740139556,
  "xmax": -49.69939840707915,
  "ymax": -27.080437401395557,
  "spatialReference": {
   "wkid": 4674,
   "latestWkid": 4674
  }
 },
 "initialExtent": {
  "xmin": -57.65479840707915,
  "ymin": -33.75723740139556,
  "xmax": -49.69939840707915,
  "ymax": -27.080437401395557,
  "spatialReference": {
   "wkid": 4674,
   "latestWkid": 4674
  }
 },
 "fullExtent": {
  "xmin": -57.65479840707915,
  "ymin": -33.75723740139556,
  "xmax": -49.69939840707915,
  "ymax": -27.080437401395557,
  "spatialReference": {
   "wkid": 4674,
   "latestWkid": 4674
  }
 },
 "hasMultidimensions": false,
 "pixelSizeX": 2.999999999999999E-4,
 "pixelSizeY": 3.0000000000000003E-4,
 "datasetFormat": "IMAGINE Image",
 "uncompressedSize": 590158090,
 "blockWidth": 64,
 "blockHeight": 64,
 "compressionType": "None",
 "bandNames": [
  "Layer_1"
 ],
 "allowCopy": true,
 "allowAnalysis": true,
 "bandCount": 1,
 "noDataValue": 255,
 "noDataValues": [
  255
 ],
 "pixelType": "U8",
 "minPixelSize": 0,
 "maxPixelSize": 0,
 "copyrightText": "",
 "serviceDataType": "esriImageServiceDataTypeThematic",
 "serviceSourceType": "esriImageServiceSourceTypeDataset",
 "minValues": [
  1
 ],
 "maxValues": [
  1
 ],
 "meanValues": [
  1
 ],
 "stdvValues": [
  0
 ],
 "objectIdField": "",
 "fields": [],
 "capabilities": "Image,Metadata,Mensuration",
 "defaultMosaicMethod": "Center",
 "allowedMosaicMethods": "",
 "sortField": "",
 "sortValue": null,
 "sortAscending": true,
 "mosaicOperator": "First",
 "defaultCompressionQuality": 75,
 "defaultResamplingMethod": "Bilinear",
 "maxImageHeight": 4100,
 "maxImageWidth": 15000,
 "allowRasterFunction": true,
 "rasterFunctionInfos": [
  {
   "name": "None",
   "description": "",
   "help": ""
  }
 ],
 "rasterTypeInfos": [
  {
   "name": "Raster Dataset",
   "description": "Supports all ArcGIS Raster Datasets",
   "help": ""
  }
 ],
 "mensurationCapabilities": "Basic",
 "hasHistograms": true,
 "hasColormap": false,
 "hasRasterAttributeTable": false,
 "minScale": 0,
 "maxScale": 0,
 "exportTilesAllowed": false,
 "supportsStatistics": false,
 "supportsAdvancedQueries": false,
 "editFieldsInfo": null,
 "ownershipBasedAccessControlForRasters": null,
 "allowComputeTiePoints": false,
 "useStandardizedQueries": true,
 "advancedQueryCapabilities": {
  "useStandardizedQueries": true,
  "supportsStatistics": false,
  "supportsOrderBy": false,
  "supportsDistinct": false,
  "supportsPagination": false
 },
 "spatialReference": {
  "wkid": 4674,
  "latestWkid": 4674
 }
}
