View In:
ArcGIS JavaScript
ArcGIS Online Map Viewer
ArcGIS Earth
ArcMap
View Footprint In:
ArcGIS Online Map Viewer
Service Description: Agua_img
Name: Agua_img
Description:
Single Fused Map Cache: false
Extent:
XMin: -57.65479840707915
YMin: -33.75723740139556
XMax: -49.69939840707915
YMax: -27.080437401395557
Spatial Reference: 4674
(4674)
Initial Extent:
XMin: -57.65479840707915
YMin: -33.75723740139556
XMax: -49.69939840707915
YMax: -27.080437401395557
Spatial Reference: 4674
(4674)
Full Extent:
XMin: -57.65479840707915
YMin: -33.75723740139556
XMax: -49.69939840707915
YMax: -27.080437401395557
Spatial Reference: 4674
(4674)
Pixel Size X: 2.999999999999999E-4
Pixel Size Y: 3.0000000000000003E-4
Band Count: 1
Pixel Type: U8
RasterFunction Infos: {"rasterFunctionInfos": [{
"name": "None",
"description": "",
"help": ""
}]}
Mensuration Capabilities: Basic
Has Histograms: true
Has Colormap: false
Has Multi Dimensions : false
Rendering Rule:
Min Scale: 0
Max Scale: 0
Copyright Text:
Service Data Type: esriImageServiceDataTypeThematic
Min Values: 1
Max Values: 1
Mean Values: 1
Standard Deviation Values: 0
Object ID Field:
Fields:
None
Default Mosaic Method: Center
Allowed Mosaic Methods:
SortField:
SortValue: null
Mosaic Operator: First
Default Compression Quality: 75
Default Resampling Method: Bilinear
Max Record Count: null
Max Image Height: 4100
Max Image Width: 15000
Max Download Image Count: null
Max Mosaic Image Count: null
Allow Raster Function: true
Allow Copy: true
Allow Analysis: true
Allow Compute TiePoints: false
Supports Statistics: false
Supports Advanced Queries: false
Use StandardizedQueries: true
Raster Type Infos:
Name: Raster Dataset
Description: Supports all ArcGIS Raster Datasets
Help:
Has Raster Attribute Table: false
Edit Fields Info: null
Ownership Based AccessControl For Rasters: null
Child Resources:
Info
Histograms
Statistics
Key Properties
Legend
Raster Function Infos
Supported Operations:
Export Image
Identify
Measure
Compute Histograms
Compute Statistics Histograms
Get Samples
Compute Class Statistics
Query Boundary
Compute Pixel Location
Compute Angles
Validate
Project